Workbook
Name completiontext: [1]Cal!$B$4

Sheet About the tool
B2: Acerca de la herramienta
B4: Esta herramienta está destinada a las IF que hayan completado una auditoría en línea de SPI y se encuentren ahora en la fase de desarrollo del plan de acción. Dado que es muy recomendable priorizar las áreas objetivo de mejora, esta herramienta se desarrolló para ayudar en esta área. La herramienta se estructura e los siguientes instrumentos. Haga clic en cada título para ir a la pestaña correspondiente. | O4: v1.00 - Diciembre 2023
B5: I Matriz de esfuerzo- impacto
B6: Para definir un plan de acción hay que priorizar las brechas. Y lo primero es identificar las victorias tempranas. Esta matriz ofrece una solución interactiva a ser utilizada durante las sesiones de lluvia de ideas cuando el equipo se reúna para elaborar el plan de acción.
B14: II Matriz de prioridades
B15: Esta matriz ayuda a identificar las prioridades. A veces no es una victoria temprana, pero sí una prioridad, ya que puede estar relacionada con una serie de factores que deben tenerse en cuenta a la hora de priorizar las brechas y elaborar un plan de acción para mejorar las prácticas: 1. Requisito mínimo de PC. 2. Gestión de riesgos. 3. Estrategia de la IF. 4. Contexto: 5. Brechas relacionadas 6. Tiempo y recursos
B17: III. Desafíos
B18: El plan de acción podría enfrentar desafíos. Esto es para asegurarse de que el promotor o el equipo tengan en cuenta los retos de la implementación y sepan cómo afrontarlos. También es una manera muy buena de tener una razón documentada cuando la implementación se ralentiza o se detiene.

Sheet Impact Effort Matrix
B1: MATRIZ DE IMPACTO- ESFUERZO | N1: Acerca de la herramienta A1 | O1: Regreso
C4: Tareas | D4: Esfurzo | E4: Impacto | G4: Grandes proyectos | J4: Victorias tempranas
C5: Curso básico de introducción a la PC para la junta directiva | D5: Alto | E5: Alto | G5: ✓ | H5: {=IFERROR(INDEX($C$5:$C$44,SMALL(IF((LEN($C$5:$C$44)<>0)*($D$5:$D$44="High")*($E$5:$E$44="High"),ROW($C$5:$C$44)-ROW($C$4),""),ROW(D5)-ROW($C$4))),"")} | J5: ✗ | K5: {=IFERROR(INDEX($C$5:$C$44,SMALL(IF((LEN($C$5:$C$44)<>0)*($D$5:$D$44="Low")*($E$5:$E$44="High"),ROW($C$5:$C$44)-ROW($C$4),""),ROW(C5)-ROW($C$4))),"")}
C6: Crear una línea telefónica de quejas para clientes que sustituya a los buzones de sugerencias de las sucursales. | D6: Alto | E6: Bajo | G6: ✓ | H6: {=IFERROR(INDEX($C$5:$C$44,SMALL(IF((LEN($C$5:$C$44)<>0)*($D$5:$D$44="High")*($E$5:$E$44="High"),ROW($C$5:$C$44)-ROW($C$4),""),ROW(D6)-ROW($C$4))),"")} | J6: ✗ | K6: {=IFERROR(INDEX($C$5:$C$44,SMALL(IF((LEN($C$5:$C$44)<>0)*($D$5:$D$44="Low")*($E$5:$E$44="High"),ROW($C$5:$C$44)-ROW($C$4),""),ROW(C6)-ROW($C$4))),"")}
C7: Incorporación de técnicas de atención al cliente a la formación continua del personal | D7: Alto | E7: Bajo | G7: ✓ | H7: {=IFERROR(INDEX($C$5:$C$44,SMALL(IF((LEN($C$5:$C$44)<>0)*($D$5:$D$44="High")*($E$5:$E$44="High"),ROW($C$5:$C$44)-ROW($C$4),""),ROW(D7)-ROW($C$4))),"")} | J7: ✓ | K7: {=IFERROR(INDEX($C$5:$C$44,SMALL(IF((LEN($C$5:$C$44)<>0)*($D$5:$D$44="Low")*($E$5:$E$44="High"),ROW($C$5:$C$44)-ROW($C$4),""),ROW(C7)-ROW($C$4))),"")}
C8: OID chequeo de riesgos | D8: Bajo | E8: Alto | G8: ✗ | H8: {=IFERROR(INDEX($C$5:$C$44,SMALL(IF((LEN($C$5:$C$44)<>0)*($D$5:$D$44="High")*($E$5:$E$44="High"),ROW($C$5:$C$44)-ROW($C$4),""),ROW(D8)-ROW($C$4))),"")} | K8: {=IFERROR(INDEX($C$5:$C$44,SMALL(IF((LEN($C$5:$C$44)<>0)*($D$5:$D$44="Low")*($E$5:$E$44="High"),ROW($C$5:$C$44)-ROW($C$4),""),ROW(C8)-ROW($C$4))),"")}
C9: Documento de Datos Clave (KFD) inexistente | D9: Bajo | E9: Alto | H9: {=IFERROR(INDEX($C$5:$C$44,SMALL(IF((LEN($C$5:$C$44)<>0)*($D$5:$D$44="High")*($E$5:$E$44="High"),ROW($C$5:$C$44)-ROW($C$4),""),ROW(D9)-ROW($C$4))),"")} | K9: {=IFERROR(INDEX($C$5:$C$44,SMALL(IF((LEN($C$5:$C$44)<>0)*($D$5:$D$44="Low")*($E$5:$E$44="High"),ROW($C$5:$C$44)-ROW($C$4),""),ROW(C9)-ROW($C$4))),"")}
K10: {=IFERROR(INDEX($C$5:$C$44,SMALL(IF((LEN($C$5:$C$44)<>0)*($D$5:$D$44="Low")*($E$5:$E$44="High"),ROW($C$5:$C$44)-ROW($C$4),""),ROW(C10)-ROW($C$4))),"")}
H11: {=IFERROR(INDEX($C$5:$C$44,SMALL(IF((LEN($C$5:$C$44)<>0)*($D$5:$D$44="High")*($E$5:$E$44="High"),ROW($C$5:$C$44)-ROW($C$4),""),ROW(D11)-ROW($C$4))),"")} | K11: {=IFERROR(INDEX($C$5:$C$44,SMALL(IF((LEN($C$5:$C$44)<>0)*($D$5:$D$44="Low")*($E$5:$E$44="High"),ROW($C$5:$C$44)-ROW($C$4),""),ROW(C11)-ROW($C$4))),"")}
H12: {=IFERROR(INDEX($C$5:$C$44,SMALL(IF((LEN($C$5:$C$44)<>0)*($D$5:$D$44="High")*($E$5:$E$44="High"),ROW($C$5:$C$44)-ROW($C$4),""),ROW(D12)-ROW($C$4))),"")} | K12: {=IFERROR(INDEX($C$5:$C$44,SMALL(IF((LEN($C$5:$C$44)<>0)*($D$5:$D$44="Low")*($E$5:$E$44="High"),ROW($C$5:$C$44)-ROW($C$4),""),ROW(C12)-ROW($C$4))),"")}
H13: {=IFERROR(INDEX($C$5:$C$44,SMALL(IF((LEN($C$5:$C$44)<>0)*($D$5:$D$44="High")*($E$5:$E$44="High"),ROW($C$5:$C$44)-ROW($C$4),""),ROW(D13)-ROW($C$4))),"")} | K13: {=IFERROR(INDEX($C$5:$C$44,SMALL(IF((LEN($C$5:$C$44)<>0)*($D$5:$D$44="Low")*($E$5:$E$44="High"),ROW($C$5:$C$44)-ROW($C$4),""),ROW(C13)-ROW($C$4))),"")}
H14: {=IFERROR(INDEX($C$5:$C$44,SMALL(IF((LEN($C$5:$C$44)<>0)*($D$5:$D$44="High")*($E$5:$E$44="High"),ROW($C$5:$C$44)-ROW($C$4),""),ROW(D14)-ROW($C$4))),"")} | K14: {=IFERROR(INDEX($C$5:$C$44,SMALL(IF((LEN($C$5:$C$44)<>0)*($D$5:$D$44="Low")*($E$5:$E$44="High"),ROW($C$5:$C$44)-ROW($C$4),""),ROW(C14)-ROW($C$4))),"")}
H15: {=IFERROR(INDEX($C$5:$C$44,SMALL(IF((LEN($C$5:$C$44)<>0)*($D$5:$D$44="High")*($E$5:$E$44="High"),ROW($C$5:$C$44)-ROW($C$4),""),ROW(D15)-ROW($C$4))),"")} | K15: {=IFERROR(INDEX($C$5:$C$44,SMALL(IF((LEN($C$5:$C$44)<>0)*($D$5:$D$44="Low")*($E$5:$E$44="High"),ROW($C$5:$C$44)-ROW($C$4),""),ROW(C15)-ROW($C$4))),"")}
H16: {=IFERROR(INDEX($C$5:$C$44,SMALL(IF((LEN($C$5:$C$44)<>0)*($D$5:$D$44="High")*($E$5:$E$44="High"),ROW($C$5:$C$44)-ROW($C$4),""),ROW(D16)-ROW($C$4))),"")} | K16: {=IFERROR(INDEX($C$5:$C$44,SMALL(IF((LEN($C$5:$C$44)<>0)*($D$5:$D$44="Low")*($E$5:$E$44="High"),ROW($C$5:$C$44)-ROW($C$4),""),ROW(C16)-ROW($C$4))),"")}
G17: Tareas ingratas | J17: Para rellenar
G18: ✓ | H18: {=IFERROR(INDEX($C$5:$C$44,SMALL(IF((LEN($C$5:$C$44)<>0)*($D$5:$D$44="High")*($E$5:$E$44="Low"),ROW($C$5:$C$44)-ROW($C$4),""),ROW(C5)-ROW($C$4))),"")} | J18: ✓ | K18: {=IFERROR(INDEX($C$5:$C$44,SMALL(IF((LEN($C$5:$C$44)<>0)*($D$5:$D$44="Low")*($E$5:$E$44="Low"),ROW($C$5:$C$44)-ROW($C$4),""),ROW(C5)-ROW($C$4))),"")}
G19: ✓ | H19: {=IFERROR(INDEX($C$5:$C$44,SMALL(IF((LEN($C$5:$C$44)<>0)*($D$5:$D$44="High")*($E$5:$E$44="Low"),ROW($C$5:$C$44)-ROW($C$4),""),ROW(C6)-ROW($C$4))),"")} | J19: ✓ | K19: {=IFERROR(INDEX($C$5:$C$44,SMALL(IF((LEN($C$5:$C$44)<>0)*($D$5:$D$44="Low")*($E$5:$E$44="Low"),ROW($C$5:$C$44)-ROW($C$4),""),ROW(C6)-ROW($C$4))),"")}
G20: ✓ | H20: {=IFERROR(INDEX($C$5:$C$44,SMALL(IF((LEN($C$5:$C$44)<>0)*($D$5:$D$44="High")*($E$5:$E$44="Low"),ROW($C$5:$C$44)-ROW($C$4),""),ROW(C7)-ROW($C$4))),"")} | J20: ✓ | K20: {=IFERROR(INDEX($C$5:$C$44,SMALL(IF((LEN($C$5:$C$44)<>0)*($D$5:$D$44="Low")*($E$5:$E$44="Low"),ROW($C$5:$C$44)-ROW($C$4),""),ROW(C7)-ROW($C$4))),"")}
H21: {=IFERROR(INDEX($C$5:$C$44,SMALL(IF((LEN($C$5:$C$44)<>0)*($D$5:$D$44="High")*($E$5:$E$44="Low"),ROW($C$5:$C$44)-ROW($C$4),""),ROW(C8)-ROW($C$4))),"")} | K21: {=IFERROR(INDEX($C$5:$C$44,SMALL(IF((LEN($C$5:$C$44)<>0)*($D$5:$D$44="Low")*($E$5:$E$44="Low"),ROW($C$5:$C$44)-ROW($C$4),""),ROW(C8)-ROW($C$4))),"")}
H22: {=IFERROR(INDEX($C$5:$C$44,SMALL(IF((LEN($C$5:$C$44)<>0)*($D$5:$D$44="High")*($E$5:$E$44="Low"),ROW($C$5:$C$44)-ROW($C$4),""),ROW(C9)-ROW($C$4))),"")} | K22: {=IFERROR(INDEX($C$5:$C$44,SMALL(IF((LEN($C$5:$C$44)<>0)*($D$5:$D$44="Low")*($E$5:$E$44="Low"),ROW($C$5:$C$44)-ROW($C$4),""),ROW(C9)-ROW($C$4))),"")}
H23: {=IFERROR(INDEX($C$5:$C$44,SMALL(IF((LEN($C$5:$C$44)<>0)*($D$5:$D$44="High")*($E$5:$E$44="Low"),ROW($C$5:$C$44)-ROW($C$4),""),ROW(C10)-ROW($C$4))),"")} | K23: {=IFERROR(INDEX($C$5:$C$44,SMALL(IF((LEN($C$5:$C$44)<>0)*($D$5:$D$44="Low")*($E$5:$E$44="Low"),ROW($C$5:$C$44)-ROW($C$4),""),ROW(C10)-ROW($C$4))),"")}
H24: {=IFERROR(INDEX($C$5:$C$44,SMALL(IF((LEN($C$5:$C$44)<>0)*($D$5:$D$44="High")*($E$5:$E$44="Low"),ROW($C$5:$C$44)-ROW($C$4),""),ROW(C11)-ROW($C$4))),"")}
H25: {=IFERROR(INDEX($C$5:$C$44,SMALL(IF((LEN($C$5:$C$44)<>0)*($D$5:$D$44="High")*($E$5:$E$44="Low"),ROW($C$5:$C$44)-ROW($C$4),""),ROW(C12)-ROW($C$4))),"")} | K25: {=IFERROR(INDEX($C$5:$C$44,SMALL(IF((LEN($C$5:$C$44)<>0)*($D$5:$D$44="Low")*($E$5:$E$44="Low"),ROW($C$5:$C$44)-ROW($C$4),""),ROW(C12)-ROW($C$4))),"")}
H26: {=IFERROR(INDEX($C$5:$C$44,SMALL(IF((LEN($C$5:$C$44)<>0)*($D$5:$D$44="High")*($E$5:$E$44="Low"),ROW($C$5:$C$44)-ROW($C$4),""),ROW(C13)-ROW($C$4))),"")} | K26: {=IFERROR(INDEX($C$5:$C$44,SMALL(IF((LEN($C$5:$C$44)<>0)*($D$5:$D$44="Low")*($E$5:$E$44="Low"),ROW($C$5:$C$44)-ROW($C$4),""),ROW(C13)-ROW($C$4))),"")}
H27: {=IFERROR(INDEX($C$5:$C$44,SMALL(IF((LEN($C$5:$C$44)<>0)*($D$5:$D$44="High")*($E$5:$E$44="Low"),ROW($C$5:$C$44)-ROW($C$4),""),ROW(C16)-ROW($C$4))),"")} | K27: {=IFERROR(INDEX($C$5:$C$44,SMALL(IF((LEN($C$5:$C$44)<>0)*($D$5:$D$44="Low")*($E$5:$E$44="Low"),ROW($C$5:$C$44)-ROW($C$4),""),ROW(C14)-ROW($C$4))),"")}
K28: {=IFERROR(INDEX($C$5:$C$44,SMALL(IF((LEN($C$5:$C$44)<>0)*($D$5:$D$44="Low")*($E$5:$E$44="Low"),ROW($C$5:$C$44)-ROW($C$4),""),ROW(C15)-ROW($C$4))),"")}

Sheet Priorities Matrix
M1: Acerca de la herramienta A1
B2: Del análisis Impacto/Esfuerzo | F2: Factores que se deben tener en cuenta al priorizar a las brechas y elaborar un plan de acción para mejorar las prácticas | M2: Regreso
B4: Tareas | C4: Esfurzo | D4: Impacto | F4: Requisitos mínimos de PC: | G4: Estrategia | H4: Gestión de riesgos | I4: Contexto | J4: Brechas relacionadas | K4: Tiempo y recursos
B5: =VLOOKUP('Impact Effort Matrix'!C5,'Impact Effort Matrix'!C5,1,FALSE) -> Curso básico de introducción a la PC para la junta directiva | C5: =IFERROR((VLOOKUP('Impact Effort Matrix'!D5,'Impact Effort Matrix'!D5,1,FALSE)),"") -> Alto | D5: =IFERROR(VLOOKUP('Impact Effort Matrix'!E5,'Impact Effort Matrix'!E5,1,FALSE),"") -> Alto | F5: Alto | G5: Alto | H5: Bajo | I5: Bajo | J5: No | K5: No
B6: =VLOOKUP('Impact Effort Matrix'!C6,'Impact Effort Matrix'!C6,1,FALSE) -> Crear una línea telefónica de quejas para clientes que sustituya a los buzones de sugerencias de las sucursales. | C6: =IFERROR((VLOOKUP('Impact Effort Matrix'!D6,'Impact Effort Matrix'!D6,1,FALSE)),"") -> Alto | D6: =IFERROR(VLOOKUP('Impact Effort Matrix'!E6,'Impact Effort Matrix'!E6,1,FALSE),"") -> Bajo | F6: Bajo | G6: Bajo | H6: Medio | I6: Alto | J6: Si | K6: Si
B7: =VLOOKUP('Impact Effort Matrix'!C7,'Impact Effort Matrix'!C7,1,FALSE) -> Incorporación de técnicas de atención al cliente a la formación continua del personal | C7: =IFERROR((VLOOKUP('Impact Effort Matrix'!D7,'Impact Effort Matrix'!D7,1,FALSE)),"") -> Alto | D7: =IFERROR(VLOOKUP('Impact Effort Matrix'!E7,'Impact Effort Matrix'!E7,1,FALSE),"") -> Bajo | F7: Medio | G7: Alto | H7: Bajo | I7: Bajo | J7: Si | K7: Si
B8: =VLOOKUP('Impact Effort Matrix'!C8,'Impact Effort Matrix'!C8,1,FALSE) -> OID chequeo de riesgos | C8: =IFERROR((VLOOKUP('Impact Effort Matrix'!D8,'Impact Effort Matrix'!D8,1,FALSE)),"") -> Bajo | D8: =IFERROR(VLOOKUP('Impact Effort Matrix'!E8,'Impact Effort Matrix'!E8,1,FALSE),"") -> Alto | F8: Medio | G8: Alto | H8: Alto | I8: Alto | J8: Si | K8: No
B9: =VLOOKUP('Impact Effort Matrix'!C9,'Impact Effort Matrix'!C9,1,FALSE) -> Documento de Datos Clave (KFD) inexistente | C9: =IFERROR((VLOOKUP('Impact Effort Matrix'!D9,'Impact Effort Matrix'!D9,1,FALSE)),"") -> Bajo | D9: =IFERROR(VLOOKUP('Impact Effort Matrix'!E9,'Impact Effort Matrix'!E9,1,FALSE),"") -> Alto
B10: =VLOOKUP('Impact Effort Matrix'!C10,'Impact Effort Matrix'!C10,1,FALSE) -> #N/A | C10: =IFERROR((VLOOKUP('Impact Effort Matrix'!D10,'Impact Effort Matrix'!D10,1,FALSE)),"") | D10: =IFERROR(VLOOKUP('Impact Effort Matrix'!E10,'Impact Effort Matrix'!E10,1,FALSE),"")
B11: =VLOOKUP('Impact Effort Matrix'!C11,'Impact Effort Matrix'!C11,1,FALSE) -> #N/A | C11: =IFERROR((VLOOKUP('Impact Effort Matrix'!D11,'Impact Effort Matrix'!D11,1,FALSE)),"") | D11: =IFERROR(VLOOKUP('Impact Effort Matrix'!E11,'Impact Effort Matrix'!E11,1,FALSE),"")
B12: =VLOOKUP('Impact Effort Matrix'!C12,'Impact Effort Matrix'!C12,1,FALSE) -> #N/A | C12: =IFERROR((VLOOKUP('Impact Effort Matrix'!D12,'Impact Effort Matrix'!D12,1,FALSE)),"") | D12: =IFERROR(VLOOKUP('Impact Effort Matrix'!E12,'Impact Effort Matrix'!E12,1,FALSE),"")
B13: =VLOOKUP('Impact Effort Matrix'!C13,'Impact Effort Matrix'!C13,1,FALSE) -> #N/A | C13: =IFERROR((VLOOKUP('Impact Effort Matrix'!D13,'Impact Effort Matrix'!D13,1,FALSE)),"") | D13: =IFERROR(VLOOKUP('Impact Effort Matrix'!E13,'Impact Effort Matrix'!E13,1,FALSE),"")
B14: =VLOOKUP('Impact Effort Matrix'!C14,'Impact Effort Matrix'!C14,1,FALSE) -> #N/A | C14: =IFERROR((VLOOKUP('Impact Effort Matrix'!D14,'Impact Effort Matrix'!D14,1,FALSE)),"") | D14: =IFERROR(VLOOKUP('Impact Effort Matrix'!E14,'Impact Effort Matrix'!E14,1,FALSE),"")
B15: =VLOOKUP('Impact Effort Matrix'!C15,'Impact Effort Matrix'!C15,1,FALSE) -> #N/A | C15: =IFERROR((VLOOKUP('Impact Effort Matrix'!D15,'Impact Effort Matrix'!D15,1,FALSE)),"") | D15: =IFERROR(VLOOKUP('Impact Effort Matrix'!E15,'Impact Effort Matrix'!E15,1,FALSE),"")
B16: =VLOOKUP('Impact Effort Matrix'!C16,'Impact Effort Matrix'!C16,1,FALSE) -> #N/A | C16: =IFERROR((VLOOKUP('Impact Effort Matrix'!D16,'Impact Effort Matrix'!D16,1,FALSE)),"") | D16: =IFERROR(VLOOKUP('Impact Effort Matrix'!E16,'Impact Effort Matrix'!E16,1,FALSE),"")
B17: =VLOOKUP('Impact Effort Matrix'!C17,'Impact Effort Matrix'!C17,1,FALSE) -> #N/A | C17: =IFERROR((VLOOKUP('Impact Effort Matrix'!D17,'Impact Effort Matrix'!D17,1,FALSE)),"") | D17: =IFERROR(VLOOKUP('Impact Effort Matrix'!E17,'Impact Effort Matrix'!E17,1,FALSE),"")
B18: =VLOOKUP('Impact Effort Matrix'!C18,'Impact Effort Matrix'!C18,1,FALSE) -> #N/A | C18: =IFERROR((VLOOKUP('Impact Effort Matrix'!D18,'Impact Effort Matrix'!D18,1,FALSE)),"") | D18: =IFERROR(VLOOKUP('Impact Effort Matrix'!E18,'Impact Effort Matrix'!E18,1,FALSE),"")
B19: =VLOOKUP('Impact Effort Matrix'!C19,'Impact Effort Matrix'!C19,1,FALSE) -> #N/A | C19: =IFERROR((VLOOKUP('Impact Effort Matrix'!D19,'Impact Effort Matrix'!D19,1,FALSE)),"") | D19: =IFERROR(VLOOKUP('Impact Effort Matrix'!E19,'Impact Effort Matrix'!E19,1,FALSE),"")
B20: =VLOOKUP('Impact Effort Matrix'!C20,'Impact Effort Matrix'!C20,1,FALSE) -> #N/A | C20: =IFERROR((VLOOKUP('Impact Effort Matrix'!D20,'Impact Effort Matrix'!D20,1,FALSE)),"") | D20: =IFERROR(VLOOKUP('Impact Effort Matrix'!E20,'Impact Effort Matrix'!E20,1,FALSE),"")
... B39: =VLOOKUP('Impact Effort Matrix'!C39,'Impact Effort Matrix'!C39,1,FALSE) -> #N/A | C39: =IFERROR((VLOOKUP('Impact Effort Matrix'!D39,'Impact Effort Matrix'!D39,1,FALSE)),"") | D39: =IFERROR(VLOOKUP('Impact Effort Matrix'!E39,'Impact Effort Matrix'!E39,1,FALSE),"")

Sheet Challenges 
B2: Matriz de desafíos | H2: Acerca de la herramienta A1 | I2: Regreso
B4: Desafío | C4: ¿Por qué? | D4: De tareas pendientes | E4: Estado | F4: ¿Reflejados en el plan de acción?
B5: Curso básico de introducción a la PC para la junta directiva | C5: 2 los miembros de la junta directiva no podrán asistir a cursos de capacitación presenciales hasta el próximo trimestre | D5: Sesión en línea - tardará más de 2 semanas | E5: ✗ | F5: ✓
B6: Crear una línea telefónica de quejas para clientes que sustituya a los buzones de sugerencias de las sucursales. | C6: Alto cost y falta de RRHH | D6: Mantener los buzones de sugerencias en las sucursales e instalar un teléfono gratuito para quejas | E6: ✗ | F6: ✗
